BEGIN:VCALENDAR
VERSION:2.0
PRODID:-//Lycée Brizeux Quimper - ECPv6.15.13//NONSGML v1.0//EN
CALSCALE:GREGORIAN
METHOD:PUBLISH
X-ORIGINAL-URL:https://lyceebrizeuxquimper.bzh
X-WR-CALDESC:Évènements pour Lycée Brizeux Quimper
REFRESH-INTERVAL;VALUE=DURATION:PT1H
X-Robots-Tag:noindex
X-PUBLISHED-TTL:PT1H
BEGIN:VTIMEZONE
TZID:Europe/Paris
BEGIN:DAYLIGHT
TZOFFSETFROM:+0100
TZOFFSETTO:+0200
TZNAME:CEST
DTSTART:20240331T010000
END:DAYLIGHT
BEGIN:STANDARD
TZOFFSETFROM:+0200
TZOFFSETTO:+0100
TZNAME:CET
DTSTART:20241027T010000
END:STANDARD
BEGIN:DAYLIGHT
TZOFFSETFROM:+0100
TZOFFSETTO:+0200
TZNAME:CEST
DTSTART:20250330T010000
END:DAYLIGHT
BEGIN:STANDARD
TZOFFSETFROM:+0200
TZOFFSETTO:+0100
TZNAME:CET
DTSTART:20251026T010000
END:STANDARD
BEGIN:DAYLIGHT
TZOFFSETFROM:+0100
TZOFFSETTO:+0200
TZNAME:CEST
DTSTART:20260329T010000
END:DAYLIGHT
BEGIN:STANDARD
TZOFFSETFROM:+0200
TZOFFSETTO:+0100
TZNAME:CET
DTSTART:20261025T010000
END:STANDARD
END:VTIMEZONE
BEGIN:VEVENT
DTSTART;TZID=Europe/Paris:20250514T200000
DTEND;TZID=Europe/Paris:20250514T220000
DTSTAMP:20260420T045736
CREATED:20250418T103719Z
LAST-MODIFIED:20251207T145346Z
UID:3308-1747252800-1747260000@lyceebrizeuxquimper.bzh
SUMMARY:Théâtre : Représentation
DESCRIPTION:Réservation des billets via helloasso : Réserver.
URL:https://lyceebrizeuxquimper.bzh/event/theatre-representation/
ATTACH;FMTTYPE=image/png:https://lyceebrizeuxquimper.bzh/wp-content/uploads/2025/04/affiche_t_2025.png
END:VEVENT
BEGIN:VEVENT
DTSTART;TZID=Europe/Paris:20250518T170000
DTEND;TZID=Europe/Paris:20250518T190000
DTSTAMP:20260420T045736
CREATED:20250418T103949Z
LAST-MODIFIED:20251207T145346Z
UID:3311-1747587600-1747594800@lyceebrizeuxquimper.bzh
SUMMARY:Théâtre : Représentation
DESCRIPTION:Réservation des billets via helloasso : Réserver.
URL:https://lyceebrizeuxquimper.bzh/event/theatre-representation-2/
ATTACH;FMTTYPE=image/png:https://lyceebrizeuxquimper.bzh/wp-content/uploads/2025/04/affiche_t_2025.png
END:VEVENT
END:VCALENDAR