BEGIN:VCALENDAR
VERSION:2.0
PRODID:-//Lycée Brizeux Quimper - ECPv6.15.13//NONSGML v1.0//EN
CALSCALE:GREGORIAN
METHOD:PUBLISH
X-ORIGINAL-URL:https://lyceebrizeuxquimper.bzh
X-WR-CALDESC:Évènements pour Lycée Brizeux Quimper
REFRESH-INTERVAL;VALUE=DURATION:PT1H
X-Robots-Tag:noindex
X-PUBLISHED-TTL:PT1H
BEGIN:VTIMEZONE
TZID:Europe/Paris
BEGIN:DAYLIGHT
TZOFFSETFROM:+0100
TZOFFSETTO:+0200
TZNAME:CEST
DTSTART:20250330T010000
END:DAYLIGHT
BEGIN:STANDARD
TZOFFSETFROM:+0200
TZOFFSETTO:+0100
TZNAME:CET
DTSTART:20251026T010000
END:STANDARD
BEGIN:DAYLIGHT
TZOFFSETFROM:+0100
TZOFFSETTO:+0200
TZNAME:CEST
DTSTART:20260329T010000
END:DAYLIGHT
BEGIN:STANDARD
TZOFFSETFROM:+0200
TZOFFSETTO:+0100
TZNAME:CET
DTSTART:20261025T010000
END:STANDARD
BEGIN:DAYLIGHT
TZOFFSETFROM:+0100
TZOFFSETTO:+0200
TZNAME:CEST
DTSTART:20270328T010000
END:DAYLIGHT
BEGIN:STANDARD
TZOFFSETFROM:+0200
TZOFFSETTO:+0100
TZNAME:CET
DTSTART:20271031T010000
END:STANDARD
END:VTIMEZONE
BEGIN:VEVENT
DTSTART;VALUE=DATE:20260522
DTEND;VALUE=DATE:20260805
DTSTAMP:20260419T171601
CREATED:20260309T104903Z
LAST-MODIFIED:20260310T133215Z
UID:4249-1779408000-1785887999@lyceebrizeuxquimper.bzh
SUMMARY:Date limite inscription en section sportive
DESCRIPTION:Notre établissement accueillera 3 sections sportives à la rentrée 2026. \nCi-dessous vous trouverez le dossier de candidature (partie lycée)\, ainsi que les fiches d’information par section sportive. \nLe dossier complété (dossier partie lycée + fiche section)  devra être déposé au secrétariat du lycée au plus tard le 22 mai 2026. \nPour toute question concernant la partie sportive nous vous invitons à contacter les clubs partenaires (coordonnées indiquées sur chaque fiche) \nPour toute question portant sur la scolarité (internat\, organisation du temps scolaire etc..) nous vous invitons à contacter le secrétariat du lycée \n\n  \n  Dossier section sportive – partie lycée\n  \n \n\n\nATHLÉTISME\nNATATION\nTRIATHLON\n\n\n\n\n\n\n\n\n      \n        Fiche section athlétisme\n        \n      \n    \n\n      \n        Fiche section natation\n        \n      \n    \n\n      \n        Fiche section triathlon
URL:https://lyceebrizeuxquimper.bzh/event/inscription-en-section-sportive/
ATTACH;FMTTYPE=image/png:https://lyceebrizeuxquimper.bzh/wp-content/uploads/2026/03/section_sportive.png
END:VEVENT
END:VCALENDAR