BEGIN:VCALENDAR
VERSION:2.0
PRODID:-//Lycée Brizeux Quimper - ECPv6.15.13//NONSGML v1.0//EN
CALSCALE:GREGORIAN
METHOD:PUBLISH
X-ORIGINAL-URL:https://lyceebrizeuxquimper.bzh
X-WR-CALDESC:Évènements pour Lycée Brizeux Quimper
REFRESH-INTERVAL;VALUE=DURATION:PT1H
X-Robots-Tag:noindex
X-PUBLISHED-TTL:PT1H
BEGIN:VTIMEZONE
TZID:Europe/Paris
BEGIN:DAYLIGHT
TZOFFSETFROM:+0100
TZOFFSETTO:+0200
TZNAME:CEST
DTSTART:20250330T010000
END:DAYLIGHT
BEGIN:STANDARD
TZOFFSETFROM:+0200
TZOFFSETTO:+0100
TZNAME:CET
DTSTART:20251026T010000
END:STANDARD
BEGIN:DAYLIGHT
TZOFFSETFROM:+0100
TZOFFSETTO:+0200
TZNAME:CEST
DTSTART:20260329T010000
END:DAYLIGHT
BEGIN:STANDARD
TZOFFSETFROM:+0200
TZOFFSETTO:+0100
TZNAME:CET
DTSTART:20261025T010000
END:STANDARD
BEGIN:DAYLIGHT
TZOFFSETFROM:+0100
TZOFFSETTO:+0200
TZNAME:CEST
DTSTART:20270328T010000
END:DAYLIGHT
BEGIN:STANDARD
TZOFFSETFROM:+0200
TZOFFSETTO:+0100
TZNAME:CET
DTSTART:20271031T010000
END:STANDARD
END:VTIMEZONE
BEGIN:VEVENT
DTSTART;TZID=Europe/Paris:20260512T200000
DTEND;TZID=Europe/Paris:20260512T223000
DTSTAMP:20260419T155927
CREATED:20260408T141457Z
LAST-MODIFIED:20260411T092032Z
UID:4347-1778616000-1778625000@lyceebrizeuxquimper.bzh
SUMMARY:Théâtre - Terrain Blanc
DESCRIPTION:Hêtre ou ne pas hêtre (Terrain Blanc 12 mai)\nLes élèves de l’atelier théâtre du lycée Brizeux ont le plaisir de vous inviter à la représentation de leur pièce « hêtre ou ne pas hêtre ». \n\n\n\nL’archidruide Serge et son apprenti Budoc s’essayent dangereusement aux incantations et potions\, non sans conséquences sur l’espace et le temps. \n\n\n\n \nLien vers la billetterie \nou
URL:https://lyceebrizeuxquimper.bzh/event/theatre/
END:VEVENT
END:VCALENDAR