BEGIN:VCALENDAR
VERSION:2.0
PRODID:-//Lycée Brizeux Quimper - ECPv6.15.13//NONSGML v1.0//EN
CALSCALE:GREGORIAN
METHOD:PUBLISH
X-WR-CALNAME:Lycée Brizeux Quimper
X-ORIGINAL-URL:https://lyceebrizeuxquimper.bzh
X-WR-CALDESC:Évènements pour Lycée Brizeux Quimper
REFRESH-INTERVAL;VALUE=DURATION:PT1H
X-Robots-Tag:noindex
X-PUBLISHED-TTL:PT1H
BEGIN:VTIMEZONE
TZID:Europe/Paris
BEGIN:DAYLIGHT
TZOFFSETFROM:+0100
TZOFFSETTO:+0200
TZNAME:CEST
DTSTART:20240331T010000
END:DAYLIGHT
BEGIN:STANDARD
TZOFFSETFROM:+0200
TZOFFSETTO:+0100
TZNAME:CET
DTSTART:20241027T010000
END:STANDARD
BEGIN:DAYLIGHT
TZOFFSETFROM:+0100
TZOFFSETTO:+0200
TZNAME:CEST
DTSTART:20250330T010000
END:DAYLIGHT
BEGIN:STANDARD
TZOFFSETFROM:+0200
TZOFFSETTO:+0100
TZNAME:CET
DTSTART:20251026T010000
END:STANDARD
BEGIN:DAYLIGHT
TZOFFSETFROM:+0100
TZOFFSETTO:+0200
TZNAME:CEST
DTSTART:20260329T010000
END:DAYLIGHT
BEGIN:STANDARD
TZOFFSETFROM:+0200
TZOFFSETTO:+0100
TZNAME:CET
DTSTART:20261025T010000
END:STANDARD
END:VTIMEZONE
BEGIN:VEVENT
DTSTART;TZID=Europe/Paris:20251115T100000
DTEND;TZID=Europe/Paris:20251115T130000
DTSTAMP:20260419T214226
CREATED:20251105T154634Z
LAST-MODIFIED:20251207T145346Z
UID:3837-1763200800-1763211600@lyceebrizeuxquimper.bzh
SUMMARY:Journée Portes Ouvertes CPGE
DESCRIPTION:affiche 2025 - JPO CPGE Brizeux novembre
URL:https://lyceebrizeuxquimper.bzh/event/journee-portes-ouvertes-cpge-2/
ATTACH;FMTTYPE=image/png:https://lyceebrizeuxquimper.bzh/wp-content/uploads/2025/11/cpge.png
END:VEVENT
END:VCALENDAR