BEGIN:VCALENDAR
VERSION:2.0
PRODID:-//Lycée Brizeux Quimper - ECPv6.15.13//NONSGML v1.0//EN
CALSCALE:GREGORIAN
METHOD:PUBLISH
X-WR-CALNAME:Lycée Brizeux Quimper
X-ORIGINAL-URL:https://lyceebrizeuxquimper.bzh
X-WR-CALDESC:Évènements pour Lycée Brizeux Quimper
REFRESH-INTERVAL;VALUE=DURATION:PT1H
X-Robots-Tag:noindex
X-PUBLISHED-TTL:PT1H
BEGIN:VTIMEZONE
TZID:Europe/Paris
BEGIN:DAYLIGHT
TZOFFSETFROM:+0100
TZOFFSETTO:+0200
TZNAME:CEST
DTSTART:20230326T010000
END:DAYLIGHT
BEGIN:STANDARD
TZOFFSETFROM:+0200
TZOFFSETTO:+0100
TZNAME:CET
DTSTART:20231029T010000
END:STANDARD
BEGIN:DAYLIGHT
TZOFFSETFROM:+0100
TZOFFSETTO:+0200
TZNAME:CEST
DTSTART:20240331T010000
END:DAYLIGHT
BEGIN:STANDARD
TZOFFSETFROM:+0200
TZOFFSETTO:+0100
TZNAME:CET
DTSTART:20241027T010000
END:STANDARD
BEGIN:DAYLIGHT
TZOFFSETFROM:+0100
TZOFFSETTO:+0200
TZNAME:CEST
DTSTART:20250330T010000
END:DAYLIGHT
BEGIN:STANDARD
TZOFFSETFROM:+0200
TZOFFSETTO:+0100
TZNAME:CET
DTSTART:20251026T010000
END:STANDARD
END:VTIMEZONE
BEGIN:VEVENT
DTSTART;TZID=Europe/Paris:20240525T200000
DTEND;TZID=Europe/Paris:20240525T220000
DTSTAMP:20260420T235247
CREATED:20240218T173015Z
LAST-MODIFIED:20251207T145346Z
UID:1522-1716667200-1716674400@lyceebrizeuxquimper.bzh
SUMMARY:Représentation de l'atelier Théâtre à l'Athéna
DESCRIPTION:Cette année\, les représentations auront lieu le mardi 21 mai au Terrain Blanc à Penhars\, Quimper et le samedi 25 mai à l’Athéna à Ergué Gabéric et. La pièce s’intitule « Nuit noire\, nuit blanche » : \nQR Code pour la réservation des billets :
URL:https://lyceebrizeuxquimper.bzh/event/representation-de-latelier-theatre/
ATTACH;FMTTYPE=image/jpeg:https://lyceebrizeuxquimper.bzh/wp-content/uploads/2024/02/theatre4.jpg
END:VEVENT
END:VCALENDAR