BEGIN:VCALENDAR
VERSION:2.0
PRODID:-//Lycée Brizeux Quimper - ECPv6.15.13//NONSGML v1.0//EN
CALSCALE:GREGORIAN
METHOD:PUBLISH
X-ORIGINAL-URL:https://lyceebrizeuxquimper.bzh
X-WR-CALDESC:Évènements pour Lycée Brizeux Quimper
REFRESH-INTERVAL;VALUE=DURATION:PT1H
X-Robots-Tag:noindex
X-PUBLISHED-TTL:PT1H
BEGIN:VTIMEZONE
TZID:Europe/Paris
BEGIN:DAYLIGHT
TZOFFSETFROM:+0100
TZOFFSETTO:+0200
TZNAME:CEST
DTSTART:20230326T010000
END:DAYLIGHT
BEGIN:STANDARD
TZOFFSETFROM:+0200
TZOFFSETTO:+0100
TZNAME:CET
DTSTART:20231029T010000
END:STANDARD
BEGIN:DAYLIGHT
TZOFFSETFROM:+0100
TZOFFSETTO:+0200
TZNAME:CEST
DTSTART:20240331T010000
END:DAYLIGHT
BEGIN:STANDARD
TZOFFSETFROM:+0200
TZOFFSETTO:+0100
TZNAME:CET
DTSTART:20241027T010000
END:STANDARD
BEGIN:DAYLIGHT
TZOFFSETFROM:+0100
TZOFFSETTO:+0200
TZNAME:CEST
DTSTART:20250330T010000
END:DAYLIGHT
BEGIN:STANDARD
TZOFFSETFROM:+0200
TZOFFSETTO:+0100
TZNAME:CET
DTSTART:20251026T010000
END:STANDARD
END:VTIMEZONE
BEGIN:VEVENT
DTSTART;TZID=Europe/Paris:20240407T000000
DTEND;TZID=Europe/Paris:20240413T000000
DTSTAMP:20260421T012927
CREATED:20240218T171121Z
LAST-MODIFIED:20251207T145346Z
UID:1515-1712448000-1712966400@lyceebrizeuxquimper.bzh
SUMMARY:Voyage en Finlande - DNL Sciences
DESCRIPTION:En avril 2024\, ce seront les élèves de 1ère de la classe européenne sciences qui se rendront en Finlande. Le programme sera assez similaire\, mais un second lycée\, à Helsinki\, sera un partenaire pour une immersion dans le milieu scolaire finlandais. Dans le cadre du projet CNR\, une visite d’un parc naturel avec un guide conférencier spécialisé en oiseaux migrateurs\, permettra de découvrir les espèces présentes en Finlande après une route migratoire passant par la Bretagne.
URL:https://lyceebrizeuxquimper.bzh/event/voyage-en-finlande-dnl-sci/
END:VEVENT
END:VCALENDAR